BEGIN:VCALENDAR
VERSION:2.0
PRODID:-//Intand Corporation//Tandem//EN
METHOD:PUBLISH
BEGIN:VEVENT
DTSTAMP:20260422T192246Z
DTSTART:20200208T230000Z
DTEND:20200209T053000Z
TRANSP:TRANSPARENT
PRIORITY:0
SUMMARY:BASH
LOCATION:Maple Dale School
DESCRIPTION:Groups:\nMDIH Foundation\n\nSchools:\nMaple Dale School\n\nLoc
 ation:\nMaple Dale School\n\n
URL;VALUE=URI:http://events.mapledaleindianhill.tandem.co/index.php?type=v
 iew&action=event&id=14195
CREATED:20190529T172656Z
LAST-MODIFIED:20190910T155856Z
UID:event-14195-mapledaleindianhill@intand.com
END:VEVENT
END:VCALENDAR
