BEGIN:VCALENDAR
VERSION:2.0
PRODID:-//Intand Corporation//Tandem//EN
METHOD:PUBLISH
BEGIN:VEVENT
DTSTAMP:20260422T192029Z
DTSTART:20190924T210000Z
DTEND:20190925T045959Z
TRANSP:TRANSPARENT
PRIORITY:0
SUMMARY:Cross Country Meet\, (Grades 4-8) @ Indian Creek Park
LOCATION:Indian Creek Park
DESCRIPTION:Breakdown: TBD\n\nReturn: TBD\n\nGroups:\nMaple Dale School Cr
 oss Country\n\nSchools:\nMaple Dale School\n\nLocation:\nIndian Creek Park
 \n\n
URL;VALUE=URI:http://events.mapledaleindianhill.tandem.co/index.php?type=v
 iew&action=event&id=14496
CREATED:20190819T142803Z
LAST-MODIFIED:20190819T142803Z
UID:event-14496-mapledaleindianhill@intand.com
END:VEVENT
END:VCALENDAR
