BEGIN:VCALENDAR
VERSION:2.0
PRODID:-//Intand Corporation//Tandem//EN
METHOD:PUBLISH
BEGIN:VEVENT
DTSTAMP:20260422T192028Z
DTSTART:20200316T233000Z
DTEND:20200317T013000Z
TRANSP:TRANSPARENT
PRIORITY:0
SUMMARY:[Cancelled] PTO Meeting
LOCATION:Maple Dale Board Room
DESCRIPTION:Groups:\nPTO\n\nSchools:\nMaple Dale School\nIndian Hill Schoo
 l\n\nLocation:\nMaple Dale Board Room\n\n
URL;VALUE=URI:http://events.mapledaleindianhill.tandem.co/index.php?type=v
 iew&action=event&id=14549
CREATED:20190819T173235Z
LAST-MODIFIED:20200319T224812Z
UID:event-14549-mapledaleindianhill@intand.com
END:VEVENT
END:VCALENDAR
