BEGIN:VCALENDAR
VERSION:2.0
PRODID:-//Intand Corporation//Tandem//EN
METHOD:PUBLISH
BEGIN:VEVENT
DTSTAMP:20260422T192029Z
DTSTART:20190924T210000Z
DTEND:20190924T220000Z
TRANSP:TRANSPARENT
PRIORITY:0
SUMMARY:Soccer Game (7th/8th Co-Ed) @ Brown Deer
LOCATION:Brown Deer Middle School
DESCRIPTION:Groups:\nMaple Dale School Soccer\n\nSchools:\nMaple Dale Scho
 ol\n\nLocation:\nBrown Deer Middle School\n\n
URL;VALUE=URI:http://events.mapledaleindianhill.tandem.co/index.php?type=v
 iew&action=event&id=14562
CREATED:20190827T172204Z
LAST-MODIFIED:20190827T172204Z
UID:event-14562-mapledaleindianhill@intand.com
END:VEVENT
END:VCALENDAR
