BEGIN:VCALENDAR
VERSION:2.0
PRODID:-//Intand Corporation//Tandem//EN
METHOD:PUBLISH
BEGIN:VEVENT
DTSTAMP:20260422T192242Z
DTSTART:20191024T121500Z
DTEND:20191024T130000Z
TRANSP:TRANSPARENT
PRIORITY:0
SUMMARY:Intramural Dodgeball Club (5th & 6th)
LOCATION:Maple Dale Gymnasium
DESCRIPTION:Groups:\nMaple Dale School Intramural Sports\n\nSchools:\nMapl
 e Dale School\n\nLocation:\nMaple Dale Gymnasium\n\n
URL;VALUE=URI:http://events.mapledaleindianhill.tandem.co/index.php?type=v
 iew&action=event&id=14766
CREATED:20190910T220057Z
LAST-MODIFIED:20190910T220057Z
UID:event-14766-mapledaleindianhill@intand.com
END:VEVENT
END:VCALENDAR
