BEGIN:VCALENDAR
VERSION:2.0
PRODID:-//Intand Corporation//Tandem//EN
METHOD:PUBLISH
BEGIN:VEVENT
DTSTAMP:20260422T192031Z
DTSTART:20200229T133000Z
DTEND:20200229T173000Z
TRANSP:TRANSPARENT
PRIORITY:0
SUMMARY:PSAT -  hold for makeup day if necessary
LOCATION:Maple Dale Cafeteria
DESCRIPTION:Cafeteria will need set up with normal lunchroom set up.\n\nGr
 oups:\nDistrict Families\nNon-District Families\n\nSchools:\nMaple Dale Sc
 hool\n\nLocation:\nMaple Dale Cafeteria\n\n
URL;VALUE=URI:http://events.mapledaleindianhill.tandem.co/index.php?type=v
 iew&action=event&id=15045
CREATED:20191016T180511Z
LAST-MODIFIED:20191018T150925Z
UID:event_request-15045-mapledaleindianhill@intand.com
END:VEVENT
END:VCALENDAR
