BEGIN:VCALENDAR
VERSION:2.0
PRODID:-//Intand Corporation//Tandem//EN
METHOD:PUBLISH
BEGIN:VEVENT
DTSTAMP:20260422T192028Z
DTSTART:20191121T010000Z
DTEND:20191121T030000Z
TRANSP:TRANSPARENT
PRIORITY:0
SUMMARY:Ed. Foundation Meeting
LOCATION:Maple Dale Board Room
DESCRIPTION:Groups:\nMDIH Foundation\n\nSchools:\nMaple Dale School\n\nLoc
 ation:\nMaple Dale Board Room\n\n
URL;VALUE=URI:http://events.mapledaleindianhill.tandem.co/index.php?type=v
 iew&action=event&id=15089
CREATED:20191024T145633Z
LAST-MODIFIED:20191024T145633Z
UID:event-15089-mapledaleindianhill@intand.com
END:VEVENT
END:VCALENDAR
