BEGIN:VCALENDAR
VERSION:2.0
PRODID:-//Intand Corporation//Tandem//EN
METHOD:PUBLISH
BEGIN:VEVENT
DTSTAMP:20260422T192250Z
DTSTART:20200123T130000Z
DTEND:20200123T140000Z
TRANSP:TRANSPARENT
PRIORITY:0
SUMMARY:Boys Basketball (8th Grade) Practice
LOCATION:Maple Dale Gymnasium
DESCRIPTION:Groups:\nMaple Dale School 8th Grade Boys Basketball\n\nSchool
 s:\nMaple Dale School\n\nLocation:\nMaple Dale Gymnasium\n\n
URL;VALUE=URI:http://events.mapledaleindianhill.tandem.co/index.php?type=v
 iew&action=event&id=15135
CREATED:20191119T153940Z
LAST-MODIFIED:20191119T153940Z
UID:event-15135-mapledaleindianhill@intand.com
END:VEVENT
END:VCALENDAR
