BEGIN:VCALENDAR
VERSION:2.0
PRODID:-//Intand Corporation//Tandem//EN
METHOD:PUBLISH
BEGIN:VEVENT
DTSTAMP:20260422T192248Z
DTSTART:20200305T214500Z
DTEND:20200305T230000Z
TRANSP:TRANSPARENT
PRIORITY:0
SUMMARY:Boys Volleyball (7th & 8th) Scrimmage vs. Girls
LOCATION:Maple Dale Gymnasium
DESCRIPTION:Groups:\nMaple Dale School Boys Volleyball\n\nSchools:\nMaple 
 Dale School\n\nLocation:\nMaple Dale Gymnasium\n\n
URL;VALUE=URI:http://events.mapledaleindianhill.tandem.co/index.php?type=v
 iew&action=event&id=15245
CREATED:20200113T184915Z
LAST-MODIFIED:20200113T184915Z
UID:event-15245-mapledaleindianhill@intand.com
END:VEVENT
END:VCALENDAR
