BEGIN:VCALENDAR
VERSION:2.0
PRODID:-//Intand Corporation//Tandem//EN
METHOD:PUBLISH
BEGIN:VEVENT
DTSTAMP:20260422T192234Z
DTSTART:20200420T210000Z
DTEND:20200420T220000Z
TRANSP:TRANSPARENT
PRIORITY:0
SUMMARY:[Cancelled] Girls Softball (7th & 8th Grade) Game vs. Brown Deer
LOCATION:Maple Dale Outdoor Field
DESCRIPTION:Groups:\nMaple Dale School Girls Softball\n\nSchools:\nMaple D
 ale School\n\nLocation:\nMaple Dale Outdoor Field\n\n
URL;VALUE=URI:http://events.mapledaleindianhill.tandem.co/index.php?type=v
 iew&action=event&id=15286
CREATED:20200120T144234Z
LAST-MODIFIED:20200331T193301Z
UID:event-15286-mapledaleindianhill@intand.com
END:VEVENT
END:VCALENDAR
