BEGIN:VCALENDAR
VERSION:2.0
PRODID:-//Intand Corporation//Tandem//EN
METHOD:PUBLISH
BEGIN:VEVENT
DTSTAMP:20260422T192024Z
DTSTART:20200312T204500Z
DTEND:20200312T220000Z
TRANSP:TRANSPARENT
PRIORITY:0
SUMMARY:Girls Volleyball (7th ONLY) Practice
LOCATION:Maple Dale Gymnasium
DESCRIPTION:Groups:\nMaple Dale School Girls Volleyball\n\nSchools:\nMaple
  Dale School\n\nLocation:\nMaple Dale Gymnasium\n\n
URL;VALUE=URI:http://events.mapledaleindianhill.tandem.co/index.php?type=v
 iew&action=event&id=15366
CREATED:20200210T191541Z
LAST-MODIFIED:20200210T191541Z
UID:event-15366-mapledaleindianhill@intand.com
END:VEVENT
END:VCALENDAR
