BEGIN:VCALENDAR
VERSION:2.0
PRODID:-//Intand Corporation//Tandem//EN
METHOD:PUBLISH
BEGIN:VEVENT
DTSTAMP:20260422T192240Z
DTSTART:20200310T210000Z
DTEND:20200310T220000Z
TRANSP:TRANSPARENT
PRIORITY:0
SUMMARY:Boys Volleyball (7th & 8th) Game @ Steffen
LOCATION:Steffen Middle School
DESCRIPTION:Groups:\nMaple Dale School Boys Volleyball\n\nSchools:\nMaple 
 Dale School\n\nLocation:\nSteffen Middle School\n\n
URL;VALUE=URI:http://events.mapledaleindianhill.tandem.co/index.php?type=v
 iew&action=event&id=15370
CREATED:20200211T205621Z
LAST-MODIFIED:20200211T205621Z
UID:event-15370-mapledaleindianhill@intand.com
END:VEVENT
END:VCALENDAR
