BEGIN:VCALENDAR
VERSION:2.0
PRODID:-//Intand Corporation//Tandem//EN
METHOD:PUBLISH
BEGIN:VEVENT
DTSTAMP:20260422T192238Z
DTSTART:20200316T210000Z
DTEND:20200316T220000Z
TRANSP:TRANSPARENT
PRIORITY:0
SUMMARY:[Cancelled] Boys Volleyball (8th ONLY) Game @ Bayside
LOCATION:Bayside Middle School
DESCRIPTION:Groups:\nMaple Dale School Boys Volleyball\n\nSchools:\nMaple 
 Dale School\n\nLocation:\nBayside Middle School\n\n
URL;VALUE=URI:http://events.mapledaleindianhill.tandem.co/index.php?type=v
 iew&action=event&id=15375
CREATED:20200212T154134Z
LAST-MODIFIED:20200315T192204Z
UID:event-15375-mapledaleindianhill@intand.com
END:VEVENT
END:VCALENDAR
