BEGIN:VCALENDAR
VERSION:2.0
PRODID:-//Intand Corporation//Tandem//EN
METHOD:PUBLISH
BEGIN:VEVENT
DTSTAMP:20260422T192111Z
DTSTART:20200407T204500Z
DTEND:20200407T214500Z
TRANSP:TRANSPARENT
PRIORITY:0
SUMMARY:[Cancelled] Noetic Math Contest Practice
LOCATION:Maple Dale Library
DESCRIPTION:Practice for the Noetic Math Contest\n\nGroups:\nNoetic Learni
 ng Math Contest\nDistrict Families\n\nSchools:\nMaple Dale School\nIndian 
 Hill School\n\nLocation:\nMaple Dale Library\n\n
URL;VALUE=URI:http://events.mapledaleindianhill.tandem.co/index.php?type=v
 iew&action=event&id=15430
CREATED:20200304T170037Z
LAST-MODIFIED:20200319T224813Z
UID:event_request-15430-mapledaleindianhill@intand.com
END:VEVENT
END:VCALENDAR
