BEGIN:VCALENDAR
VERSION:2.0
PRODID:-//Intand Corporation//Tandem//EN
METHOD:PUBLISH
BEGIN:VEVENT
DTSTAMP:20260422T192243Z
DTSTART:20240219T220000Z
DTEND:20240219T233000Z
TRANSP:TRANSPARENT
PRIORITY:0
SUMMARY:Girls Volleyball Practice
LOCATION:Maple Dale Gymnasium
DESCRIPTION:Groups:\nMaple Dale School Girls Volleyball\n\nSchools:\nMaple
  Dale School\n\nLocation:\nMaple Dale Gymnasium\n\n
URL;VALUE=URI:http://events.mapledaleindianhill.tandem.co/index.php?type=v
 iew&action=event&id=17968
CREATED:20240205T215537Z
LAST-MODIFIED:20240205T220540Z
UID:event-17968-mapledaleindianhill@intand.com
END:VEVENT
END:VCALENDAR
