BEGIN:VCALENDAR
VERSION:2.0
PRODID:-//Intand Corporation//Tandem//EN
METHOD:PUBLISH
BEGIN:VEVENT
DTSTAMP:20260422T192234Z
DTSTART:20240711T230000Z
DTEND:20240712T020000Z
TRANSP:TRANSPARENT
PRIORITY:0
SUMMARY:[Cancelled] Regular School Board Meeting
LOCATION:Maple Dale Board Room
DESCRIPTION:Groups:\nMDIH School Board\n\nSchools:\nMaple Dale School\n\nL
 ocation:\nMaple Dale Board Room\n\n
URL;VALUE=URI:http://events.mapledaleindianhill.tandem.co/index.php?type=v
 iew&action=event&id=18148
CREATED:20240607T184458Z
LAST-MODIFIED:20240607T184547Z
UID:event-18148-mapledaleindianhill@intand.com
END:VEVENT
END:VCALENDAR
