BEGIN:VCALENDAR
VERSION:2.0
PRODID:-//Intand Corporation//Tandem//EN
METHOD:PUBLISH
BEGIN:VEVENT
DTSTAMP:20260422T192132Z
DTSTART:20240710T223000Z
DTEND:20240711T013000Z
TRANSP:TRANSPARENT
PRIORITY:0
SUMMARY:Regular School Board Meeting
LOCATION:Maple Dale Board Room
DESCRIPTION:PLEASE NOTE NEW TIME\n\n\nGroups:\nMDIH School Board\n\nSchool
 s:\nMaple Dale School\n\nLocation:\nMaple Dale Board Room\n\n
URL;VALUE=URI:http://events.mapledaleindianhill.tandem.co/index.php?type=v
 iew&action=event&id=18149
CREATED:20240607T184514Z
LAST-MODIFIED:20240610T183148Z
UID:event-18149-mapledaleindianhill@intand.com
END:VEVENT
END:VCALENDAR
