BEGIN:VCALENDAR
VERSION:2.0
PRODID:-//Intand Corporation//Tandem//EN
METHOD:PUBLISH
BEGIN:VEVENT
DTSTAMP:20260422T164326Z
DTSTART:20260501T220000Z
DTEND:20260502T010000Z
TRANSP:TRANSPARENT
PRIORITY:0
SUMMARY:Global Fest
LOCATION:Maple Dale School
DESCRIPTION:Groups:\nDistrict Families\n\nSchools:\nMaple Dale School\n\nL
 ocation:\nMaple Dale School\n\n
URL;VALUE=URI:http://events.mapledaleindianhill.tandem.co/index.php?type=v
 iew&action=event&id=19132
CREATED:20250828T133059Z
LAST-MODIFIED:20260325T182023Z
UID:event_request-19132-mapledaleindianhill@intand.com
END:VEVENT
END:VCALENDAR
