BEGIN:VCALENDAR
VERSION:2.0
PRODID:-//Intand Corporation//Tandem//EN
METHOD:PUBLISH
BEGIN:VEVENT
DTSTAMP:20260422T204555Z
DTSTART:20260518T210000Z
DTEND:20260518T220000Z
TRANSP:TRANSPARENT
PRIORITY:0
SUMMARY:Brownie Troop 37934
LOCATION:Indian Hill Maker Space
DESCRIPTION:Groups:\nDaisy Troop 37934\n\nLocation:\nIndian Hill Maker Spa
 ce\n\n
URL;VALUE=URI:http://events.mapledaleindianhill.tandem.co/index.php?type=v
 iew&action=event&id=19173
CREATED:20250908T230428Z
LAST-MODIFIED:20250908T230428Z
UID:event-19173-mapledaleindianhill@intand.com
END:VEVENT
END:VCALENDAR
