BEGIN:VCALENDAR
VERSION:2.0
PRODID:-//Intand Corporation//Tandem//EN
METHOD:PUBLISH
BEGIN:VEVENT
DTSTAMP:20260422T191542Z
DTSTART:20260514T210000Z
DTEND:20260514T230000Z
TRANSP:TRANSPARENT
PRIORITY:0
SUMMARY:Track and Field Meet at Shorewood
LOCATION:Shorewood High School
DESCRIPTION:Groups:\nMaple Dale Track Team\n\nSchools:\nMaple Dale School\
 n\nLocation:\nShorewood High School\n\n
URL;VALUE=URI:http://events.mapledaleindianhill.tandem.co/index.php?type=v
 iew&action=event&id=19636
CREATED:20260202T154958Z
LAST-MODIFIED:20260202T154958Z
UID:event-19636-mapledaleindianhill@intand.com
END:VEVENT
END:VCALENDAR
