BEGIN:VCALENDAR
VERSION:2.0
PRODID:-//Intand Corporation//Tandem//EN
METHOD:PUBLISH
BEGIN:VEVENT
DTSTAMP:20260422T190943Z
DTSTART:20260816T150000Z
DTEND:20260816T200000Z
TRANSP:TRANSPARENT
PRIORITY:0
SUMMARY:Piggly Wiggly's Grill Out and Car Wash Fundraiser for Washington\,
  D.C.
LOCATION:Olsen's Piggly Wiggly
DESCRIPTION:Piggly Wiggly in Mequon will donate all proceeds from grill it
 ems purchased this day.\n\n\nGroups:\nDistrict Families\nNon-District Fami
 lies\n\nLocation:\nOlsen's Piggly Wiggly\n\n
X-ALT-DESC;FMTTYPE=text/html:<!doctype html><html><body>Piggly Wiggly in M
 equon will donate all proceeds from grill items purchased this day.<br /><
 br />Groups:<br />District Families<br />Non-District Families<br /><br />
 Location:<br />Olsen's Piggly Wiggly<br />Attachments:<br /><a href="http:
 //events.mapledaleindianhill.tandem.co/index.php?type=export&action=file&i
 d=847">Piggly Wiggly Grill Out AND Car Wash Flyer August 16\, 2026 (1).pdf
 </a><br /></body></html>
URL;VALUE=URI:http://events.mapledaleindianhill.tandem.co/index.php?type=v
 iew&action=event&id=19697
CREATED:20260310T161346Z
LAST-MODIFIED:20260310T161628Z
UID:event_request-19697-mapledaleindianhill@intand.com
END:VEVENT
END:VCALENDAR
