BEGIN:VCALENDAR
VERSION:2.0
PRODID:-//Intand Corporation//Tandem//EN
METHOD:PUBLISH
BEGIN:VEVENT
DTSTAMP:20260422T191009Z
DTSTART:20260512T140000Z
DTEND:20260512T174500Z
TRANSP:TRANSPARENT
PRIORITY:0
SUMMARY:Fluid Power Challenge Field Trip
LOCATION:UNKNOWN
DESCRIPTION:Schools:\nMaple Dale School\n\nLocation:\nUNKNOWN\n\n
URL;VALUE=URI:http://events.mapledaleindianhill.tandem.co/index.php?type=v
 iew&action=event&id=19720
CREATED:20260408T145154Z
LAST-MODIFIED:20260408T145154Z
UID:event-19720-mapledaleindianhill@intand.com
END:VEVENT
END:VCALENDAR
